BEGIN:VCALENDAR
VERSION:2.0
PRODID:-//ExpressionEngine Easy iCalendar plugin//NONSGML v2.0.0//EN
X-WR-TIMEZONE:America/New_York
X-WR-CALNAME:Upcoming Auctions
BEGIN:VEVENT
UID:120386
DTSTAMP:20240508T160000
DTSTART:20240508T160000
DTEND:20240522T120000
SUMMARY:Ford Expedition SUV Auction
LOCATION:{location}
DESCRIPTION:Eddie Bauer Edition
URL:https://www.linkousauction.com/auctions/detail/bw120386
SEQUENCE:1
END:VEVENT
END:VCALENDAR